BEGIN:VCALENDAR
VERSION:2.0
PRODID:-//eventon.com NONSGML v1.0//EN
CALSCALE:GREGORIAN
METHOD:PUBLISH
BEGIN:VEVENT
UID:69e9f5723e252
DTSTAMP:20260423T063322
DTSTART:20260313
DTEND:20260314
TZID:Europe/London
LOCATION:
SUMMARY:Employee Planning (no school for students)
DESCRIPTION:Employee Planning (no school for students)\nhttps://www.atlantictechnicalcollege.edu/blog/events/employee-planning-no-school-for-students-5/
URL:https://www.atlantictechnicalcollege.edu/blog/events/employee-planning-no-school-for-students-5/
END:VEVENT
END:VCALENDAR